BEGIN:VCALENDAR
VERSION:2.0
PRODID:-//wp-events-plugin.com//7.2.3.1//EN
BEGIN:VEVENT
UID:61@faithintowerhamlets.org
DTSTART:20251013T000000Z
DTEND:20251013T000000Z
DTSTAMP:20260123T115259Z
URL:https://www.faithintowerhamlets.org/events/faith-in-every-family-toget
 her-for-families-and-send/
SUMMARY:Faith in Every Family: Together for Families and SEND
DESCRIPTION:&nbsp\;\n\n\n\nOur next forum meeting that will take place ONLI
 NE\, where we’ll be exploring how faith communities can better support c
 hildren and families with special educational needs and disabilities (SEND
 ).\n\nJoin us to hear about the challenges families face\, listen to inspi
 ring stories of good practice\, and take part in an open discussion about 
 how faith groups can offer practical\, emotional\, and social support to t
 hose who need it most. There will also be a chance to ask questions and sh
 are your own ideas during the discussion session.\n\nThis event is open to
  everyone interested in inclusion\, family wellbeing\, or SEND — whether
  you’re part of a faith group\, a local organisation\, or a parent or ca
 rer who wants to help make a difference.\n\nThere will also be the opportu
 nity to share news of your own updates\, projects and events that are not 
 connected to the SEND theme.\n\nWhen: 6-7:30pm\, Monday 13 October 2025\nW
 here: Online\nHow to join: Register via Eventbrite or email info@faithinto
 werhamlets.org.
CATEGORIES:Forum Meetings
END:VEVENT
END:VCALENDAR