BEGIN:VCALENDAR
VERSION:2.0
PRODID:-//wp-events-plugin.com//7.2.3.1//EN
BEGIN:VEVENT
UID:55@faithintowerhamlets.org
DTSTART:20240624T180000Z
DTEND:20240624T200000Z
DTSTAMP:20240624T135416Z
URL:https://www.faithintowerhamlets.org/events/forum-meeting-24-june-2024/
SUMMARY:Forum Meeting - 24 June 2024
DESCRIPTION:\n\n\n\n\n\n\n\n\nWelcome to the Tower Hamlets Inter Faith Foru
 m Meeting!\n\nCome join us for an evening of dialogue\, discussion\, and c
 ommunity building. This event is a great opportunity for people of all fai
 ths and none to come together\, share their experiences\, and learn from o
 ne another.\n\nWe are pleased to be joined by a variety of speakers from p
 rojects and initatives around the borough\, more details tba soon.\n\nSpea
 kers will include our standing agenda item on hate crime statisitcs by Met
  Police.\n\nDate: Mon Jun 24 2024\n\nTime: 18:00\n\nLocation: Tbc\n\nTh
 is meeting is open to everyone. Let's celebrate our diversity and work tow
 ards a more inclusive and understanding society together\, making Tower Ha
 mlets a great place to live\, work and study.\n\n\n\n\n\n\n\n\n\n\n\n\n\n\
 n\n
ATTACH;FMTTYPE=image/jpeg:https://www.faithintowerhamlets.org/wp-content/u
 ploads/2023/10/FxoN8zpXoAQa6Ko.jpg
CATEGORIES:Forum Meetings
LOCATION:Feldy Community Cantre\, 18 Aberfeldy Square \, Aberfeldy Village\
 , E14 0XA\, United Kingdom
GEO:51.512863;-0.00525
X-APPLE-STRUCTURED-LOCATION;VALUE=URI;X-ADDRESS=18 Aberfeldy Square \, Aber
 feldy Village\, E14 0XA\, United Kingdom;X-APPLE-RADIUS=100;X-TITLE=Feldy 
 Community Cantre:geo:51.512863,-0.00525
END:VEVENT
END:VCALENDAR