BEGIN:VCALENDAR
VERSION:2.0
PRODID:-//wp-events-plugin.com//7.2.3.1//EN
BEGIN:VEVENT
UID:59@faithintowerhamlets.org
DTSTART:20250512T180000Z
DTEND:20250512T200000Z
DTSTAMP:20250527T134544Z
URL:https://www.faithintowerhamlets.org/events/forum-meeting-food-insecuri
 ty-in-tower-hamlets/
SUMMARY:Forum Meeting: Food Insecurity in Tower Hamlets
DESCRIPTION:Tower Hamlets has some of the highest levels of poverty and foo
 d insecurity in the UK\, with almost 48% of children growing up in poverty
 . Faith-based organisations have long played a crucial role in supporting 
 those in need — but demand is rising\, and the situation is becoming inc
 reasingly unsustainable.\n\nJoin us for a focused discussion on:\n\n 	The 
 vital role faith settings play in tackling food poverty\n 	The pressures f
 aith-based projects are facing\n 	The systemic causes driving food insecur
 ity\n 	How we can work together towards longer-term solutions\n\nThis even
 t will bring together faith leaders\, community groups and residents o sha
 re experiences\, highlight challenges\, and shape the way forward.\n\nSpea
 kers tba.\n\nThere will also be networking opportunities\, and tea\, coffe
 e and biscuits.
CATEGORIES:Forum Meetings
LOCATION:Good Shepherd Mission\, 17 Three Colts Lane\, Bethnal Green \, E2 
 6JL\, United Kingdom
GEO:51.524399;-0.059663
X-APPLE-STRUCTURED-LOCATION;VALUE=URI;X-ADDRESS=17 Three Colts Lane\, Bethn
 al Green \, E2 6JL\, United Kingdom;X-APPLE-RADIUS=100;X-TITLE=Good Shephe
 rd Mission:geo:51.524399,-0.059663
END:VEVENT
END:VCALENDAR