BEGIN:VCALENDAR
VERSION:2.0
PRODID:-//wp-events-plugin.com//7.2.3.1//EN
BEGIN:VEVENT
UID:38@faithintowerhamlets.org
DTSTART:20210719T140000Z
DTEND:20210719T160000Z
DTSTAMP:20210702T114403Z
URL:https://www.faithintowerhamlets.org/events/forum-meeting-social-prescr
 ibing/
SUMMARY:Forum Meeting: Social Prescribing
DESCRIPTION:Join us for our next forum meeting that is focusing on social p
 rescribing in the borough. Tower Hamlets consist of eight GP networks\, ea
 ch of which employs a Social Prescriber. \nSocial prescribing helps to imp
 rove health and wellbeing for those who do not need a medical intervention
 \, by referring them to access non-clinical services and support.\nMany fa
 ith and community groups support the wellbeing of the community\, but are 
 unaware of what social prescribing is\, or how to get involved. \nJoin us 
 to find out more! \nPanellist:\nSahdia Warraich\, Social Prescribing Manag
 er\, Tower Hamlets GP Care Group CIC \nMore tbc\nThe meeting will also hav
 e an update on the work of THIFF from Revd Alan Green\, chair of THIFF and
  an update on hate crime statistics from Met Police\, along with the oppor
 tunity for attendees to share details of their work\, projects or events. 
 \nCome along and join the discussion and share your experiences\, thoughts
  and ideas. 
CATEGORIES:Forum Meetings
END:VEVENT
END:VCALENDAR