BEGIN:VCALENDAR
VERSION:2.0
PRODID:-//wp-events-plugin.com//7.2.3.1//EN
BEGIN:VEVENT
UID:9@faithintowerhamlets.org
DTSTART:20191126T180000Z
DTEND:20191126T200000Z
DTSTAMP:20191206T130756Z
URL:https://www.faithintowerhamlets.org/events/thiff-forum-meeting-5/
SUMMARY:THIFF Forum Meeting: Homelessness
DESCRIPTION:Speakers:\n\nFleur Holley-Moore of Tower Hamlets Council update
 d the forum about their rough sleeping strategy and their partners in the 
 borough that help deliver it.\n\nVerna Coke of Spitalfields Crypt Trust up
 dated the forum about the valuable work that goes on all year round.\n\nPl
 ease see the minutes below for a full rundown.
CATEGORIES:Forum Meetings
LOCATION:New City College\, Poplar High Street\, London\, E14 0AF\, United 
 Kingdom
GEO:51.508948;-0.017186
X-APPLE-STRUCTURED-LOCATION;VALUE=URI;X-ADDRESS=Poplar High Street\, London
 \, E14 0AF\, United Kingdom;X-APPLE-RADIUS=100;X-TITLE=New City College:ge
 o:51.508948,-0.017186
END:VEVENT
END:VCALENDAR