BEGIN:VCALENDAR
VERSION:2.0
PRODID:-//wp-events-plugin.com//7.2.3.1//EN
BEGIN:VEVENT
UID:39@faithintowerhamlets.org
DTSTART:20210927T140000Z
DTEND:20210927T160000Z
DTSTAMP:20210802T144930Z
URL:https://www.faithintowerhamlets.org/events/tower-hamlets-inter-faith-f
 orum-grief-bereavement/
SUMMARY:Tower Hamlets Inter Faith Forum: Grief & Bereavement
DESCRIPTION:Join us for our next online forum meeting that is focusing on g
 rief and bereavement. \nThe death of a loved one is one of the most diffic
 ult emotional experiences faced in life. At times these emotions can be ov
 erwhelming and although a natural response to the death of a loved one\, s
 ome people may need extra support to cope.\nThe pandemic has intensified t
 he grief process - many people feel extra emotions\, such as anger or guil
 t that they could not be with loved ones at the point of end of life\, and
  many could not attend funerals due to Covid-19 restrictions. \n\n\n 	Wher
 e can local people access support for bereavement and grief?\n 	How can we
  support each other as a community?\n 	What are faith groups doing to supp
 ort those that are bereaved? \n 	How can we create a means of remembrance 
 for those lost? \n\nSpeakers tbc\nThe meeting will also have an update on 
 the work of THIFF from Revd Alan Green\, chair of THIFF and an update on h
 ate crime statistics from Met Police\, along with the opportunity for atte
 ndees to share details of their work\, projects or events. \nCome along an
 d join the discussion and share your experiences\, thoughts and ideas.
CATEGORIES:Forum Meetings
END:VEVENT
END:VCALENDAR